BEGIN:VCALENDAR
VERSION:2.0
PRODID:-//wp-events-plugin.com//6.6.5//EN
TZID:America/Chicago
X-WR-TIMEZONE:America/Chicago
BEGIN:VEVENT
UID:5935@cancerservices.org
DTSTART;TZID=America/Chicago:20240309T100000
DTEND;TZID=America/Chicago:20240309T120000
DTSTAMP:20240226T171013Z
URL:https://cancerservices.org/events/cancer-services-spring-carnival/
SUMMARY:Cancer Services Spring Carnival
DESCRIPTION:Join us for the Cancer Services Spring Carnival for children wi
 th cancer and their families!\n\nEnjoy exciting carnival games\, face pain
 ting\, and balloon animals\, and indulge in classic treats like popcorn\, 
 cotton candy\, corndogs\, funnel cake\, and more. Plus\, get ready to be a
 mazed by Pickles &amp\; Daisy the clowns!\n\nFor more information or to RS
 VP email STAFF@cancerservices.org or call (225) 927-2273.
LOCATION:St. Luke's Gymnasium\, Brent Poor Drive\, Baton Rouge\, Louisiana\
 , 70806\, United States
X-APPLE-STRUCTURED-LOCATION;VALUE=URI;X-ADDRESS=Brent Poor Drive\, Baton Ro
 uge\, Louisiana\, 70806\, United States;X-APPLE-RADIUS=100;X-TITLE=St. Luk
 e's Gymnasium:geo:0,0
END:VEVENT
BEGIN:VTIMEZONE
TZID:America/Chicago
X-LIC-LOCATION:America/Chicago
BEGIN:STANDARD
DTSTART:20231105T010000
TZOFFSETFROM:-0500
TZOFFSETTO:-0600
TZNAME:CST
END:STANDARD
END:VTIMEZONE
END:VCALENDAR